BEGIN:VCALENDAR
VERSION:2.0
PRODID:-//White Oak Pediatrics - ECPv6.10.2//NONSGML v1.0//EN
CALSCALE:GREGORIAN
METHOD:PUBLISH
X-WR-CALNAME:White Oak Pediatrics
X-ORIGINAL-URL:https://whiteoakpediatrics.com
X-WR-CALDESC:Events for White Oak Pediatrics
REFRESH-INTERVAL;VALUE=DURATION:PT1H
X-Robots-Tag:noindex
X-PUBLISHED-TTL:PT1H
BEGIN:VTIMEZONE
TZID:America/New_York
BEGIN:DAYLIGHT
TZOFFSETFROM:-0500
TZOFFSETTO:-0400
TZNAME:EDT
DTSTART:20250309T070000
END:DAYLIGHT
BEGIN:STANDARD
TZOFFSETFROM:-0400
TZOFFSETTO:-0500
TZNAME:EST
DTSTART:20251102T060000
END:STANDARD
BEGIN:DAYLIGHT
TZOFFSETFROM:-0500
TZOFFSETTO:-0400
TZNAME:EDT
DTSTART:20260308T070000
END:DAYLIGHT
BEGIN:STANDARD
TZOFFSETFROM:-0400
TZOFFSETTO:-0500
TZNAME:EST
DTSTART:20261101T060000
END:STANDARD
END:VTIMEZONE
BEGIN:VEVENT
DTSTART;TZID=America/New_York:20260113T193000
DTEND;TZID=America/New_York:20260113T203000
DTSTAMP:20260419T235857
CREATED:20250915T160612Z
LAST-MODIFIED:20260106T191918Z
UID:6224-1768332600-1768336200@whiteoakpediatrics.com
SUMMARY:🏃 January Webinar – Growing Pains & Injury Prevention
DESCRIPTION:Learn about common growing pains and the difference between these and orthopedic conditions. Also learn best practices for sports injury prevention & recovery for kids in soccer\, dance\, gymnastics\, etc. PT’s role in keeping them moving safely. Featuring Drs. Funk and Westbrook of Rehab 2 Perform. 
URL:https://whiteoakpediatrics.com/event/%f0%9f%8f%83-january-webinar-growing-pains-injury-prevention/
LOCATION:Virtual at link below
END:VEVENT
BEGIN:VEVENT
DTSTART;VALUE=DATE:20251201
DTEND;VALUE=DATE:20260101
DTSTAMP:20260419T235857
CREATED:20250721T151536Z
LAST-MODIFIED:20251125T204930Z
UID:6204-1764547200-1767225599@whiteoakpediatrics.com
SUMMARY:Webinar: Mental Health & Medication: What Parents Should Know
DESCRIPTION:Join us for a clear\, judgment-free conversation about mental health medications for kids. We’ll break down when medication is considered\, how different treatment options work\, what “starting low and slow” really means\, and how we decide whether — and when — a child may be ready to taper off. Our Pediatric Mental Health Nurse Practitioner\, Dr. Shaylyn\, will walk you through the most common myths\, the real-world benefits and risks\, and how therapy and medication fit together. This session is designed to help parents feel informed\, confident\, and supported — not overwhelmed. \n 
URL:https://whiteoakpediatrics.com/event/webinar-mental-health-medication-what-parents-should-know/
LOCATION:Please join us virtually at the link on the event page!
END:VEVENT
BEGIN:VEVENT
DTSTART;TZID=America/New_York:20251119T193000
DTEND;TZID=America/New_York:20251119T203000
DTSTAMP:20260419T235857
CREATED:20250721T151338Z
LAST-MODIFIED:20251112T185044Z
UID:6200-1763580600-1763584200@whiteoakpediatrics.com
SUMMARY:Webinar: Exploring Pediatric Therapy Options
DESCRIPTION:Not sure when or how to seek therapy for your child? This session\, led by the team from Green Valley Therapy\, will walk you through the most common pediatric therapies\, what they help with\, and how to know when it’s time to reach out for support.
URL:https://whiteoakpediatrics.com/event/webinar-exploring-pediatric-therapy-options/
LOCATION:Please join us virtually at the link on the event page!
END:VEVENT
BEGIN:VEVENT
DTSTART;TZID=America/New_York:20251028T193000
DTEND;TZID=America/New_York:20251028T203000
DTSTAMP:20260419T235857
CREATED:20250721T150912Z
LAST-MODIFIED:20250814T151043Z
UID:6195-1761679800-1761683400@whiteoakpediatrics.com
SUMMARY:Webinar: Nutrition as Medicine
DESCRIPTION:Discover how the right foods can help strengthen your child’s immune system\, support development\, and prevent illness. Join Dr. Sirisha Durbhakula\, MD\, as she shares practical tips and science-backed guidance to make nutrition a powerful part of your child’s care.
URL:https://whiteoakpediatrics.com/event/webinar-nutrition-as-medicine/
LOCATION:Please click name of event to find registration link!
END:VEVENT
BEGIN:VEVENT
DTSTART;TZID=America/New_York:20250910T193000
DTEND;TZID=America/New_York:20250910T203000
DTSTAMP:20260419T235857
CREATED:20250716T164206Z
LAST-MODIFIED:20250915T152326Z
UID:6183-1757532600-1757536200@whiteoakpediatrics.com
SUMMARY:*Passed: Recording Coming Soon Webinar: Healthy Sleep & Sleep Habits for Babes and Kiddos!
DESCRIPTION:Please join us virtually for a special guest presentation about healthy sleep habits from Dr. Kelsey Alford\, PNP\, DNP of Nested Sleep!
URL:https://whiteoakpediatrics.com/event/webinar-healthy-sleep-sleep-habits-for-babes-and-kiddos/
LOCATION:Please join us virtually at:\, https://tinyurl.com/2k4kjwkt
END:VEVENT
BEGIN:VEVENT
DTSTART;TZID=America/New_York:20250430T000000
DTEND;TZID=America/New_York:20250430T130000
DTSTAMP:20260419T235857
CREATED:20250424T165351Z
LAST-MODIFIED:20250424T170001Z
UID:6129-1745971200-1746018000@whiteoakpediatrics.com
SUMMARY:Mental Health Webinar for Parents
DESCRIPTION:There will be a webinar series on Children’s Mental Health – The 5 W’s of Children’s Mental Health: Questions Parents Have on Wednesday\, April 30\, 2025. This three-part webinar series is being presented by Children’s National Hospital and CareFirst BlueCross BlueShield. \nEach session will feature experts that will provide valuable background and information to parents and caregivers with strategies and resources to support their child’s mental wellbeing. \n\nYouth Mental Health Date: April 30\, 2025 Time: 12:00pm – 1:00pm\n\nParental Mental Health Date: June 11\, 2025 Time: 12:00pm – 1:00pm\n\nFor questions\, please contact: communityevents@childrensnational.org
URL:https://whiteoakpediatrics.com/event/mental-health-webinar-for-parents/
LOCATION:Virtual at link below
END:VEVENT
END:VCALENDAR